BEGIN:VCALENDAR
VERSION:2.0
PRODID:icalendar-ruby
CALSCALE:GREGORIAN
METHOD:PUBLISH
BEGIN:VEVENT
DTSTAMP:20260421T032838Z
UID:5-1248164@po4square.com
DTSTART:20261101T190000Z
DTEND:20261101T200000Z
CLASS:PUBLIC
CREATED:20260420T173815
DESCRIPTION:Sunday Worship
LAST-MODIFIED:20260420T173815
LOCATION:
SUMMARY:Sunday Worship
URL;VALUE=URI:https://po4square.com/events/sunday-worship/2026-11-01
END:VEVENT
END:VCALENDAR
